BEGIN:VCALENDAR
VERSION:2.0
PRODID:-//wp-events-plugin.com//7.2.3.1//EN
TZID:Europe/Paris
X-WR-TIMEZONE:Europe/Paris
BEGIN:VEVENT
UID:280@transat-asso.fr
DTSTART;TZID=Europe/Paris:20240617T180000
DTEND;TZID=Europe/Paris:20240617T193000
DTSTAMP:20240308T073150Z
URL:https://transat-asso.fr/events/permanence-dacces-au-droits-avignon-202
 4-06-17/
SUMMARY:Permanence d'accès au droits - Avignon
DESCRIPTION:
ATTACH;FMTTYPE=image/jpeg:https://transat-asso.fr/wp-content/uploads/2023/
 01/le-refuge-vaucluse-84232861591a4ed3a5379825e3e0d33c.jpg
CATEGORIES:Accès aux droits Avignon
LOCATION:Le refuge Vaucluse\, 38 avenue des sources\, Avignon\, 84000\, Fra
 nce
X-APPLE-STRUCTURED-LOCATION;VALUE=URI;X-ADDRESS=38 avenue des sources\, Avi
 gnon\, 84000\, France;X-APPLE-RADIUS=100;X-TITLE=Le refuge Vaucluse:geo:0,
 0
END:VEVENT
BEGIN:VTIMEZONE
TZID:Europe/Paris
X-LIC-LOCATION:Europe/Paris
BEGIN:DAYLIGHT
DTSTART:20240331T030000
TZOFFSETFROM:+0100
TZOFFSETTO:+0200
TZNAME:CEST
END:DAYLIGHT
END:VTIMEZONE
END:VCALENDAR